BEGIN:VCALENDAR
VERSION:2.0
PRODID:-//hacksw/handcal//NONSGML v1.0//EN
BEGIN:VEVENT
SUMMARY:Week-end sur le plateau de Millevaches
UID:23a5e7b4-9290-4a67-abb4-184096821fc7
DTSTART:20260528T220000Z
DTEND:20260531T220000Z
LOCATION:Localisation   
CATEGORIES:Sportif
STATUS:
URL;VALUE=URI:https://ccv46.sportsregions.fr/evenements/2026/05/29/week-end-sur-le-plateau-de-millevaches-2418356
END:VEVENT
BEGIN:VEVENT
SUMMARY:Rando Causse et Vallee
UID:cc0d525f-21d0-4a83-98c8-3ceb09e46fa0
DTSTART:20260905T220000Z
DTEND:20260906T220000Z
LOCATION:Localisation 677 rue de  la lande 46200 saint sozy
CATEGORIES:Sportif
STATUS:
URL;VALUE=URI:https://ccv46.sportsregions.fr/evenements/2026/09/06/rando-causse-et-vallee-2418360
END:VEVENT
END:VCALENDAR
